BEGIN:VCALENDAR
VERSION:2.0
PRODID:-//New Life Bible Church - ECPv6.8.2.1//NONSGML v1.0//EN
CALSCALE:GREGORIAN
METHOD:PUBLISH
X-ORIGINAL-URL:https://nlbc.org
X-WR-CALDESC:Events for New Life Bible Church
REFRESH-INTERVAL;VALUE=DURATION:PT1H
X-Robots-Tag:noindex
X-PUBLISHED-TTL:PT1H
BEGIN:VTIMEZONE
TZID:UTC
BEGIN:STANDARD
TZOFFSETFROM:+0000
TZOFFSETTO:+0000
TZNAME:UTC
DTSTART:20260101T000000
END:STANDARD
END:VTIMEZONE
BEGIN:VEVENT
DTSTART;TZID=UTC:20261227T180000
DTEND;TZID=UTC:20261227T193000
DTSTAMP:20260424T101045
CREATED:20210304T160257Z
LAST-MODIFIED:20210304T160257Z
UID:240648-1798394400-1798399800@nlbc.org
SUMMARY:Sunday Service
DESCRIPTION:
URL:https://nlbc.org/event/sunday-service/2026-12-27/
LOCATION:Granada Theater\, 3524 Greenville Ave\, Dallas\, TX\, 75206\, United States
END:VEVENT
BEGIN:VEVENT
DTSTART;TZID=UTC:20270103T180000
DTEND;TZID=UTC:20270103T193000
DTSTAMP:20260424T101045
CREATED:20210304T160257Z
LAST-MODIFIED:20210304T160257Z
UID:240650-1798999200-1799004600@nlbc.org
SUMMARY:Sunday Service
DESCRIPTION:
URL:https://nlbc.org/event/sunday-service/2027-01-03/
LOCATION:Granada Theater\, 3524 Greenville Ave\, Dallas\, TX\, 75206\, United States
END:VEVENT
BEGIN:VEVENT
DTSTART;TZID=UTC:20270110T180000
DTEND;TZID=UTC:20270110T193000
DTSTAMP:20260424T101045
CREATED:20210304T160257Z
LAST-MODIFIED:20210304T160257Z
UID:240658-1799604000-1799609400@nlbc.org
SUMMARY:Sunday Service
DESCRIPTION:
URL:https://nlbc.org/event/sunday-service/2027-01-10/
LOCATION:Granada Theater\, 3524 Greenville Ave\, Dallas\, TX\, 75206\, United States
END:VEVENT
BEGIN:VEVENT
DTSTART;TZID=UTC:20270117T180000
DTEND;TZID=UTC:20270117T193000
DTSTAMP:20260424T101045
CREATED:20210304T160257Z
LAST-MODIFIED:20210304T160257Z
UID:240674-1800208800-1800214200@nlbc.org
SUMMARY:Sunday Service
DESCRIPTION:
URL:https://nlbc.org/event/sunday-service/2027-01-17/
LOCATION:Granada Theater\, 3524 Greenville Ave\, Dallas\, TX\, 75206\, United States
END:VEVENT
BEGIN:VEVENT
DTSTART;TZID=UTC:20270124T180000
DTEND;TZID=UTC:20270124T193000
DTSTAMP:20260424T101045
CREATED:20210304T160257Z
LAST-MODIFIED:20210304T160257Z
UID:240677-1800813600-1800819000@nlbc.org
SUMMARY:Sunday Service
DESCRIPTION:
URL:https://nlbc.org/event/sunday-service/2027-01-24/
LOCATION:Granada Theater\, 3524 Greenville Ave\, Dallas\, TX\, 75206\, United States
END:VEVENT
BEGIN:VEVENT
DTSTART;TZID=UTC:20270131T180000
DTEND;TZID=UTC:20270131T193000
DTSTAMP:20260424T101045
CREATED:20210304T160257Z
LAST-MODIFIED:20210304T160257Z
UID:240680-1801418400-1801423800@nlbc.org
SUMMARY:Sunday Service
DESCRIPTION:
URL:https://nlbc.org/event/sunday-service/2027-01-31/
LOCATION:Granada Theater\, 3524 Greenville Ave\, Dallas\, TX\, 75206\, United States
END:VEVENT
BEGIN:VEVENT
DTSTART;TZID=UTC:20270207T180000
DTEND;TZID=UTC:20270207T193000
DTSTAMP:20260424T101045
CREATED:20210304T160257Z
LAST-MODIFIED:20210304T160257Z
UID:240681-1802023200-1802028600@nlbc.org
SUMMARY:Sunday Service
DESCRIPTION:
URL:https://nlbc.org/event/sunday-service/2027-02-07/
LOCATION:Granada Theater\, 3524 Greenville Ave\, Dallas\, TX\, 75206\, United States
END:VEVENT
BEGIN:VEVENT
DTSTART;TZID=UTC:20270214T180000
DTEND;TZID=UTC:20270214T193000
DTSTAMP:20260424T101045
CREATED:20210304T160257Z
LAST-MODIFIED:20210304T160257Z
UID:240683-1802628000-1802633400@nlbc.org
SUMMARY:Sunday Service
DESCRIPTION:
URL:https://nlbc.org/event/sunday-service/2027-02-14/
LOCATION:Granada Theater\, 3524 Greenville Ave\, Dallas\, TX\, 75206\, United States
END:VEVENT
BEGIN:VEVENT
DTSTART;TZID=UTC:20270221T180000
DTEND;TZID=UTC:20270221T193000
DTSTAMP:20260424T101045
CREATED:20210304T160257Z
LAST-MODIFIED:20210304T160257Z
UID:240684-1803232800-1803238200@nlbc.org
SUMMARY:Sunday Service
DESCRIPTION:
URL:https://nlbc.org/event/sunday-service/2027-02-21/
LOCATION:Granada Theater\, 3524 Greenville Ave\, Dallas\, TX\, 75206\, United States
END:VEVENT
BEGIN:VEVENT
DTSTART;TZID=UTC:20270228T180000
DTEND;TZID=UTC:20270228T193000
DTSTAMP:20260424T101045
CREATED:20210304T160257Z
LAST-MODIFIED:20210304T160257Z
UID:240688-1803837600-1803843000@nlbc.org
SUMMARY:Sunday Service
DESCRIPTION:
URL:https://nlbc.org/event/sunday-service/2027-02-28/
LOCATION:Granada Theater\, 3524 Greenville Ave\, Dallas\, TX\, 75206\, United States
END:VEVENT
BEGIN:VEVENT
DTSTART;TZID=UTC:20270307T180000
DTEND;TZID=UTC:20270307T193000
DTSTAMP:20260424T101045
CREATED:20210304T160257Z
LAST-MODIFIED:20210304T160257Z
UID:240702-1804442400-1804447800@nlbc.org
SUMMARY:Sunday Service
DESCRIPTION:
URL:https://nlbc.org/event/sunday-service/2027-03-07/
LOCATION:Granada Theater\, 3524 Greenville Ave\, Dallas\, TX\, 75206\, United States
END:VEVENT
BEGIN:VEVENT
DTSTART;TZID=UTC:20270314T180000
DTEND;TZID=UTC:20270314T193000
DTSTAMP:20260424T101045
CREATED:20210304T160257Z
LAST-MODIFIED:20210304T160257Z
UID:240716-1805047200-1805052600@nlbc.org
SUMMARY:Sunday Service
DESCRIPTION:
URL:https://nlbc.org/event/sunday-service/2027-03-14/
LOCATION:Granada Theater\, 3524 Greenville Ave\, Dallas\, TX\, 75206\, United States
END:VEVENT
BEGIN:VEVENT
DTSTART;TZID=UTC:20270321T180000
DTEND;TZID=UTC:20270321T193000
DTSTAMP:20260424T101045
CREATED:20210304T160257Z
LAST-MODIFIED:20210304T160257Z
UID:240755-1805652000-1805657400@nlbc.org
SUMMARY:Sunday Service
DESCRIPTION:
URL:https://nlbc.org/event/sunday-service/2027-03-21/
LOCATION:Granada Theater\, 3524 Greenville Ave\, Dallas\, TX\, 75206\, United States
END:VEVENT
BEGIN:VEVENT
DTSTART;TZID=UTC:20270328T180000
DTEND;TZID=UTC:20270328T193000
DTSTAMP:20260424T101045
CREATED:20210304T160257Z
LAST-MODIFIED:20210304T160257Z
UID:240785-1806256800-1806262200@nlbc.org
SUMMARY:Sunday Service
DESCRIPTION:
URL:https://nlbc.org/event/sunday-service/2027-03-28/
LOCATION:Granada Theater\, 3524 Greenville Ave\, Dallas\, TX\, 75206\, United States
END:VEVENT
BEGIN:VEVENT
DTSTART;TZID=UTC:20270404T180000
DTEND;TZID=UTC:20270404T193000
DTSTAMP:20260424T101045
CREATED:20210304T160257Z
LAST-MODIFIED:20210304T160257Z
UID:240791-1806861600-1806867000@nlbc.org
SUMMARY:Sunday Service
DESCRIPTION:
URL:https://nlbc.org/event/sunday-service/2027-04-04/
LOCATION:Granada Theater\, 3524 Greenville Ave\, Dallas\, TX\, 75206\, United States
END:VEVENT
BEGIN:VEVENT
DTSTART;TZID=UTC:20270411T180000
DTEND;TZID=UTC:20270411T193000
DTSTAMP:20260424T101045
CREATED:20210304T160257Z
LAST-MODIFIED:20210304T160257Z
UID:240795-1807466400-1807471800@nlbc.org
SUMMARY:Sunday Service
DESCRIPTION:
URL:https://nlbc.org/event/sunday-service/2027-04-11/
LOCATION:Granada Theater\, 3524 Greenville Ave\, Dallas\, TX\, 75206\, United States
END:VEVENT
BEGIN:VEVENT
DTSTART;TZID=UTC:20270418T180000
DTEND;TZID=UTC:20270418T193000
DTSTAMP:20260424T101045
CREATED:20210304T160257Z
LAST-MODIFIED:20210304T160257Z
UID:240801-1808071200-1808076600@nlbc.org
SUMMARY:Sunday Service
DESCRIPTION:
URL:https://nlbc.org/event/sunday-service/2027-04-18/
LOCATION:Granada Theater\, 3524 Greenville Ave\, Dallas\, TX\, 75206\, United States
END:VEVENT
BEGIN:VEVENT
DTSTART;TZID=UTC:20270425T180000
DTEND;TZID=UTC:20270425T193000
DTSTAMP:20260424T101045
CREATED:20210304T160257Z
LAST-MODIFIED:20210304T160257Z
UID:240807-1808676000-1808681400@nlbc.org
SUMMARY:Sunday Service
DESCRIPTION:
URL:https://nlbc.org/event/sunday-service/2027-04-25/
LOCATION:Granada Theater\, 3524 Greenville Ave\, Dallas\, TX\, 75206\, United States
END:VEVENT
BEGIN:VEVENT
DTSTART;TZID=UTC:20270502T180000
DTEND;TZID=UTC:20270502T193000
DTSTAMP:20260424T101045
CREATED:20210304T160257Z
LAST-MODIFIED:20210304T160257Z
UID:240810-1809280800-1809286200@nlbc.org
SUMMARY:Sunday Service
DESCRIPTION:
URL:https://nlbc.org/event/sunday-service/2027-05-02/
LOCATION:Granada Theater\, 3524 Greenville Ave\, Dallas\, TX\, 75206\, United States
END:VEVENT
BEGIN:VEVENT
DTSTART;TZID=UTC:20270509T180000
DTEND;TZID=UTC:20270509T193000
DTSTAMP:20260424T101045
CREATED:20210304T160257Z
LAST-MODIFIED:20210304T160257Z
UID:240811-1809885600-1809891000@nlbc.org
SUMMARY:Sunday Service
DESCRIPTION:
URL:https://nlbc.org/event/sunday-service/2027-05-09/
LOCATION:Granada Theater\, 3524 Greenville Ave\, Dallas\, TX\, 75206\, United States
END:VEVENT
BEGIN:VEVENT
DTSTART;TZID=UTC:20270516T180000
DTEND;TZID=UTC:20270516T193000
DTSTAMP:20260424T101045
CREATED:20210304T160257Z
LAST-MODIFIED:20210304T160257Z
UID:240814-1810490400-1810495800@nlbc.org
SUMMARY:Sunday Service
DESCRIPTION:
URL:https://nlbc.org/event/sunday-service/2027-05-16/
LOCATION:Granada Theater\, 3524 Greenville Ave\, Dallas\, TX\, 75206\, United States
END:VEVENT
BEGIN:VEVENT
DTSTART;TZID=UTC:20270523T180000
DTEND;TZID=UTC:20270523T193000
DTSTAMP:20260424T101045
CREATED:20210304T160257Z
LAST-MODIFIED:20210304T160257Z
UID:240823-1811095200-1811100600@nlbc.org
SUMMARY:Sunday Service
DESCRIPTION:
URL:https://nlbc.org/event/sunday-service/2027-05-23/
LOCATION:Granada Theater\, 3524 Greenville Ave\, Dallas\, TX\, 75206\, United States
END:VEVENT
BEGIN:VEVENT
DTSTART;TZID=UTC:20270530T180000
DTEND;TZID=UTC:20270530T193000
DTSTAMP:20260424T101045
CREATED:20210304T160257Z
LAST-MODIFIED:20210304T160257Z
UID:240825-1811700000-1811705400@nlbc.org
SUMMARY:Sunday Service
DESCRIPTION:
URL:https://nlbc.org/event/sunday-service/2027-05-30/
LOCATION:Granada Theater\, 3524 Greenville Ave\, Dallas\, TX\, 75206\, United States
END:VEVENT
BEGIN:VEVENT
DTSTART;TZID=UTC:20270606T180000
DTEND;TZID=UTC:20270606T193000
DTSTAMP:20260424T101045
CREATED:20210304T160257Z
LAST-MODIFIED:20210304T160257Z
UID:240826-1812304800-1812310200@nlbc.org
SUMMARY:Sunday Service
DESCRIPTION:
URL:https://nlbc.org/event/sunday-service/2027-06-06/
LOCATION:Granada Theater\, 3524 Greenville Ave\, Dallas\, TX\, 75206\, United States
END:VEVENT
BEGIN:VEVENT
DTSTART;TZID=UTC:20270613T180000
DTEND;TZID=UTC:20270613T193000
DTSTAMP:20260424T101045
CREATED:20210304T160257Z
LAST-MODIFIED:20210304T160257Z
UID:240829-1812909600-1812915000@nlbc.org
SUMMARY:Sunday Service
DESCRIPTION:
URL:https://nlbc.org/event/sunday-service/2027-06-13/
LOCATION:Granada Theater\, 3524 Greenville Ave\, Dallas\, TX\, 75206\, United States
END:VEVENT
BEGIN:VEVENT
DTSTART;TZID=UTC:20270620T180000
DTEND;TZID=UTC:20270620T193000
DTSTAMP:20260424T101045
CREATED:20210304T160257Z
LAST-MODIFIED:20210304T160257Z
UID:240830-1813514400-1813519800@nlbc.org
SUMMARY:Sunday Service
DESCRIPTION:
URL:https://nlbc.org/event/sunday-service/2027-06-20/
LOCATION:Granada Theater\, 3524 Greenville Ave\, Dallas\, TX\, 75206\, United States
END:VEVENT
BEGIN:VEVENT
DTSTART;TZID=UTC:20270627T180000
DTEND;TZID=UTC:20270627T193000
DTSTAMP:20260424T101045
CREATED:20210304T160257Z
LAST-MODIFIED:20210304T160257Z
UID:240838-1814119200-1814124600@nlbc.org
SUMMARY:Sunday Service
DESCRIPTION:
URL:https://nlbc.org/event/sunday-service/2027-06-27/
LOCATION:Granada Theater\, 3524 Greenville Ave\, Dallas\, TX\, 75206\, United States
END:VEVENT
BEGIN:VEVENT
DTSTART;TZID=UTC:20270704T180000
DTEND;TZID=UTC:20270704T193000
DTSTAMP:20260424T101045
CREATED:20210304T160257Z
LAST-MODIFIED:20210304T160257Z
UID:240840-1814724000-1814729400@nlbc.org
SUMMARY:Sunday Service
DESCRIPTION:
URL:https://nlbc.org/event/sunday-service/2027-07-04/
LOCATION:Granada Theater\, 3524 Greenville Ave\, Dallas\, TX\, 75206\, United States
END:VEVENT
BEGIN:VEVENT
DTSTART;TZID=UTC:20270711T180000
DTEND;TZID=UTC:20270711T193000
DTSTAMP:20260424T101045
CREATED:20210304T160257Z
LAST-MODIFIED:20210304T160257Z
UID:240843-1815328800-1815334200@nlbc.org
SUMMARY:Sunday Service
DESCRIPTION:
URL:https://nlbc.org/event/sunday-service/2027-07-11/
LOCATION:Granada Theater\, 3524 Greenville Ave\, Dallas\, TX\, 75206\, United States
END:VEVENT
BEGIN:VEVENT
DTSTART;TZID=UTC:20270718T180000
DTEND;TZID=UTC:20270718T193000
DTSTAMP:20260424T101045
CREATED:20210304T160257Z
LAST-MODIFIED:20210304T160257Z
UID:240845-1815933600-1815939000@nlbc.org
SUMMARY:Sunday Service
DESCRIPTION:
URL:https://nlbc.org/event/sunday-service/2027-07-18/
LOCATION:Granada Theater\, 3524 Greenville Ave\, Dallas\, TX\, 75206\, United States
END:VEVENT
END:VCALENDAR