BEGIN:VCALENDAR
VERSION:2.0
PRODID:-//New Life Bible Church - ECPv6.8.2.1//NONSGML v1.0//EN
CALSCALE:GREGORIAN
METHOD:PUBLISH
X-WR-CALNAME:New Life Bible Church
X-ORIGINAL-URL:https://nlbc.org
X-WR-CALDESC:Events for New Life Bible Church
REFRESH-INTERVAL;VALUE=DURATION:PT1H
X-Robots-Tag:noindex
X-PUBLISHED-TTL:PT1H
BEGIN:VTIMEZONE
TZID:UTC
BEGIN:STANDARD
TZOFFSETFROM:+0000
TZOFFSETTO:+0000
TZNAME:UTC
DTSTART:20270101T000000
END:STANDARD
END:VTIMEZONE
BEGIN:VEVENT
DTSTART;TZID=UTC:20270912T180000
DTEND;TZID=UTC:20270912T193000
DTSTAMP:20260424T140534
CREATED:20210304T160257Z
LAST-MODIFIED:20210304T160257Z
UID:240865-1820772000-1820777400@nlbc.org
SUMMARY:Sunday Service
DESCRIPTION:
URL:https://nlbc.org/event/sunday-service/2027-09-12/
LOCATION:Granada Theater\, 3524 Greenville Ave\, Dallas\, TX\, 75206\, United States
END:VEVENT
BEGIN:VEVENT
DTSTART;TZID=UTC:20270919T180000
DTEND;TZID=UTC:20270919T193000
DTSTAMP:20260424T140534
CREATED:20210304T160257Z
LAST-MODIFIED:20210304T160257Z
UID:240867-1821376800-1821382200@nlbc.org
SUMMARY:Sunday Service
DESCRIPTION:
URL:https://nlbc.org/event/sunday-service/2027-09-19/
LOCATION:Granada Theater\, 3524 Greenville Ave\, Dallas\, TX\, 75206\, United States
END:VEVENT
BEGIN:VEVENT
DTSTART;TZID=UTC:20270926T180000
DTEND;TZID=UTC:20270926T193000
DTSTAMP:20260424T140534
CREATED:20210304T160257Z
LAST-MODIFIED:20210304T160257Z
UID:240868-1821981600-1821987000@nlbc.org
SUMMARY:Sunday Service
DESCRIPTION:
URL:https://nlbc.org/event/sunday-service/2027-09-26/
LOCATION:Granada Theater\, 3524 Greenville Ave\, Dallas\, TX\, 75206\, United States
END:VEVENT
BEGIN:VEVENT
DTSTART;TZID=UTC:20271003T180000
DTEND;TZID=UTC:20271003T193000
DTSTAMP:20260424T140534
CREATED:20210304T160257Z
LAST-MODIFIED:20210304T160257Z
UID:240870-1822586400-1822591800@nlbc.org
SUMMARY:Sunday Service
DESCRIPTION:
URL:https://nlbc.org/event/sunday-service/2027-10-03/
LOCATION:Granada Theater\, 3524 Greenville Ave\, Dallas\, TX\, 75206\, United States
END:VEVENT
BEGIN:VEVENT
DTSTART;TZID=UTC:20271010T180000
DTEND;TZID=UTC:20271010T193000
DTSTAMP:20260424T140534
CREATED:20210304T160257Z
LAST-MODIFIED:20210304T160257Z
UID:240872-1823191200-1823196600@nlbc.org
SUMMARY:Sunday Service
DESCRIPTION:
URL:https://nlbc.org/event/sunday-service/2027-10-10/
LOCATION:Granada Theater\, 3524 Greenville Ave\, Dallas\, TX\, 75206\, United States
END:VEVENT
BEGIN:VEVENT
DTSTART;TZID=UTC:20271017T180000
DTEND;TZID=UTC:20271017T193000
DTSTAMP:20260424T140534
CREATED:20210304T160257Z
LAST-MODIFIED:20210304T160257Z
UID:240874-1823796000-1823801400@nlbc.org
SUMMARY:Sunday Service
DESCRIPTION:
URL:https://nlbc.org/event/sunday-service/2027-10-17/
LOCATION:Granada Theater\, 3524 Greenville Ave\, Dallas\, TX\, 75206\, United States
END:VEVENT
BEGIN:VEVENT
DTSTART;TZID=UTC:20271024T180000
DTEND;TZID=UTC:20271024T193000
DTSTAMP:20260424T140534
CREATED:20210304T160257Z
LAST-MODIFIED:20210304T160257Z
UID:240875-1824400800-1824406200@nlbc.org
SUMMARY:Sunday Service
DESCRIPTION:
URL:https://nlbc.org/event/sunday-service/2027-10-24/
LOCATION:Granada Theater\, 3524 Greenville Ave\, Dallas\, TX\, 75206\, United States
END:VEVENT
BEGIN:VEVENT
DTSTART;TZID=UTC:20271031T180000
DTEND;TZID=UTC:20271031T193000
DTSTAMP:20260424T140534
CREATED:20210304T160257Z
LAST-MODIFIED:20210304T160257Z
UID:240889-1825005600-1825011000@nlbc.org
SUMMARY:Sunday Service
DESCRIPTION:
URL:https://nlbc.org/event/sunday-service/2027-10-31/
LOCATION:Granada Theater\, 3524 Greenville Ave\, Dallas\, TX\, 75206\, United States
END:VEVENT
BEGIN:VEVENT
DTSTART;TZID=UTC:20271107T180000
DTEND;TZID=UTC:20271107T193000
DTSTAMP:20260424T140534
CREATED:20210304T160257Z
LAST-MODIFIED:20210304T160257Z
UID:240911-1825610400-1825615800@nlbc.org
SUMMARY:Sunday Service
DESCRIPTION:
URL:https://nlbc.org/event/sunday-service/2027-11-07/
LOCATION:Granada Theater\, 3524 Greenville Ave\, Dallas\, TX\, 75206\, United States
END:VEVENT
BEGIN:VEVENT
DTSTART;TZID=UTC:20271114T180000
DTEND;TZID=UTC:20271114T193000
DTSTAMP:20260424T140534
CREATED:20210304T160257Z
LAST-MODIFIED:20210304T160257Z
UID:240916-1826215200-1826220600@nlbc.org
SUMMARY:Sunday Service
DESCRIPTION:
URL:https://nlbc.org/event/sunday-service/2027-11-14/
LOCATION:Granada Theater\, 3524 Greenville Ave\, Dallas\, TX\, 75206\, United States
END:VEVENT
BEGIN:VEVENT
DTSTART;TZID=UTC:20271121T180000
DTEND;TZID=UTC:20271121T193000
DTSTAMP:20260424T140534
CREATED:20210304T160257Z
LAST-MODIFIED:20210304T160257Z
UID:240920-1826820000-1826825400@nlbc.org
SUMMARY:Sunday Service
DESCRIPTION:
URL:https://nlbc.org/event/sunday-service/2027-11-21/
LOCATION:Granada Theater\, 3524 Greenville Ave\, Dallas\, TX\, 75206\, United States
END:VEVENT
BEGIN:VEVENT
DTSTART;TZID=UTC:20271128T180000
DTEND;TZID=UTC:20271128T193000
DTSTAMP:20260424T140534
CREATED:20210304T160257Z
LAST-MODIFIED:20210304T160257Z
UID:240921-1827424800-1827430200@nlbc.org
SUMMARY:Sunday Service
DESCRIPTION:
URL:https://nlbc.org/event/sunday-service/2027-11-28/
LOCATION:Granada Theater\, 3524 Greenville Ave\, Dallas\, TX\, 75206\, United States
END:VEVENT
BEGIN:VEVENT
DTSTART;TZID=UTC:20271205T180000
DTEND;TZID=UTC:20271205T193000
DTSTAMP:20260424T140534
CREATED:20210304T160257Z
LAST-MODIFIED:20210304T160257Z
UID:240922-1828029600-1828035000@nlbc.org
SUMMARY:Sunday Service
DESCRIPTION:
URL:https://nlbc.org/event/sunday-service/2027-12-05/
LOCATION:Granada Theater\, 3524 Greenville Ave\, Dallas\, TX\, 75206\, United States
END:VEVENT
BEGIN:VEVENT
DTSTART;TZID=UTC:20271212T180000
DTEND;TZID=UTC:20271212T193000
DTSTAMP:20260424T140534
CREATED:20210304T160257Z
LAST-MODIFIED:20210304T160257Z
UID:240924-1828634400-1828639800@nlbc.org
SUMMARY:Sunday Service
DESCRIPTION:
URL:https://nlbc.org/event/sunday-service/2027-12-12/
LOCATION:Granada Theater\, 3524 Greenville Ave\, Dallas\, TX\, 75206\, United States
END:VEVENT
BEGIN:VEVENT
DTSTART;TZID=UTC:20271219T180000
DTEND;TZID=UTC:20271219T193000
DTSTAMP:20260424T140534
CREATED:20210304T160257Z
LAST-MODIFIED:20210304T160257Z
UID:240925-1829239200-1829244600@nlbc.org
SUMMARY:Sunday Service
DESCRIPTION:
URL:https://nlbc.org/event/sunday-service/2027-12-19/
LOCATION:Granada Theater\, 3524 Greenville Ave\, Dallas\, TX\, 75206\, United States
END:VEVENT
BEGIN:VEVENT
DTSTART;TZID=UTC:20271226T180000
DTEND;TZID=UTC:20271226T193000
DTSTAMP:20260424T140534
CREATED:20210304T160257Z
LAST-MODIFIED:20210304T160257Z
UID:240926-1829844000-1829849400@nlbc.org
SUMMARY:Sunday Service
DESCRIPTION:
URL:https://nlbc.org/event/sunday-service/2027-12-26/
LOCATION:Granada Theater\, 3524 Greenville Ave\, Dallas\, TX\, 75206\, United States
END:VEVENT
BEGIN:VEVENT
DTSTART;TZID=UTC:20280102T180000
DTEND;TZID=UTC:20280102T193000
DTSTAMP:20260424T140534
CREATED:20210304T160257Z
LAST-MODIFIED:20210304T160257Z
UID:240942-1830448800-1830454200@nlbc.org
SUMMARY:Sunday Service
DESCRIPTION:
URL:https://nlbc.org/event/sunday-service/2028-01-02/
LOCATION:Granada Theater\, 3524 Greenville Ave\, Dallas\, TX\, 75206\, United States
END:VEVENT
BEGIN:VEVENT
DTSTART;TZID=UTC:20280109T180000
DTEND;TZID=UTC:20280109T193000
DTSTAMP:20260424T140534
CREATED:20210304T160257Z
LAST-MODIFIED:20210304T160257Z
UID:240944-1831053600-1831059000@nlbc.org
SUMMARY:Sunday Service
DESCRIPTION:
URL:https://nlbc.org/event/sunday-service/2028-01-09/
LOCATION:Granada Theater\, 3524 Greenville Ave\, Dallas\, TX\, 75206\, United States
END:VEVENT
BEGIN:VEVENT
DTSTART;TZID=UTC:20280116T180000
DTEND;TZID=UTC:20280116T193000
DTSTAMP:20260424T140534
CREATED:20210304T160257Z
LAST-MODIFIED:20210304T160257Z
UID:240951-1831658400-1831663800@nlbc.org
SUMMARY:Sunday Service
DESCRIPTION:
URL:https://nlbc.org/event/sunday-service/2028-01-16/
LOCATION:Granada Theater\, 3524 Greenville Ave\, Dallas\, TX\, 75206\, United States
END:VEVENT
BEGIN:VEVENT
DTSTART;TZID=UTC:20280123T180000
DTEND;TZID=UTC:20280123T193000
DTSTAMP:20260424T140534
CREATED:20210304T160257Z
LAST-MODIFIED:20210304T160257Z
UID:240952-1832263200-1832268600@nlbc.org
SUMMARY:Sunday Service
DESCRIPTION:
URL:https://nlbc.org/event/sunday-service/2028-01-23/
LOCATION:Granada Theater\, 3524 Greenville Ave\, Dallas\, TX\, 75206\, United States
END:VEVENT
BEGIN:VEVENT
DTSTART;TZID=UTC:20280130T180000
DTEND;TZID=UTC:20280130T193000
DTSTAMP:20260424T140534
CREATED:20210304T160257Z
LAST-MODIFIED:20210304T160257Z
UID:240955-1832868000-1832873400@nlbc.org
SUMMARY:Sunday Service
DESCRIPTION:
URL:https://nlbc.org/event/sunday-service/2028-01-30/
LOCATION:Granada Theater\, 3524 Greenville Ave\, Dallas\, TX\, 75206\, United States
END:VEVENT
BEGIN:VEVENT
DTSTART;TZID=UTC:20280206T180000
DTEND;TZID=UTC:20280206T193000
DTSTAMP:20260424T140534
CREATED:20210304T160257Z
LAST-MODIFIED:20210304T160257Z
UID:240959-1833472800-1833478200@nlbc.org
SUMMARY:Sunday Service
DESCRIPTION:
URL:https://nlbc.org/event/sunday-service/2028-02-06/
LOCATION:Granada Theater\, 3524 Greenville Ave\, Dallas\, TX\, 75206\, United States
END:VEVENT
BEGIN:VEVENT
DTSTART;TZID=UTC:20280213T180000
DTEND;TZID=UTC:20280213T193000
DTSTAMP:20260424T140534
CREATED:20210304T160257Z
LAST-MODIFIED:20210304T160257Z
UID:240966-1834077600-1834083000@nlbc.org
SUMMARY:Sunday Service
DESCRIPTION:
URL:https://nlbc.org/event/sunday-service/2028-02-13/
LOCATION:Granada Theater\, 3524 Greenville Ave\, Dallas\, TX\, 75206\, United States
END:VEVENT
BEGIN:VEVENT
DTSTART;TZID=UTC:20280220T180000
DTEND;TZID=UTC:20280220T193000
DTSTAMP:20260424T140534
CREATED:20210304T160257Z
LAST-MODIFIED:20210304T160257Z
UID:240982-1834682400-1834687800@nlbc.org
SUMMARY:Sunday Service
DESCRIPTION:
URL:https://nlbc.org/event/sunday-service/2028-02-20/
LOCATION:Granada Theater\, 3524 Greenville Ave\, Dallas\, TX\, 75206\, United States
END:VEVENT
BEGIN:VEVENT
DTSTART;TZID=UTC:20280227T180000
DTEND;TZID=UTC:20280227T193000
DTSTAMP:20260424T140534
CREATED:20210304T160257Z
LAST-MODIFIED:20210304T160257Z
UID:240986-1835287200-1835292600@nlbc.org
SUMMARY:Sunday Service
DESCRIPTION:
URL:https://nlbc.org/event/sunday-service/2028-02-27/
LOCATION:Granada Theater\, 3524 Greenville Ave\, Dallas\, TX\, 75206\, United States
END:VEVENT
BEGIN:VEVENT
DTSTART;TZID=UTC:20280305T180000
DTEND;TZID=UTC:20280305T193000
DTSTAMP:20260424T140534
CREATED:20210304T160257Z
LAST-MODIFIED:20210304T160257Z
UID:241054-1835892000-1835897400@nlbc.org
SUMMARY:Sunday Service
DESCRIPTION:
URL:https://nlbc.org/event/sunday-service/2028-03-05/
LOCATION:Granada Theater\, 3524 Greenville Ave\, Dallas\, TX\, 75206\, United States
END:VEVENT
BEGIN:VEVENT
DTSTART;TZID=UTC:20280312T180000
DTEND;TZID=UTC:20280312T193000
DTSTAMP:20260424T140534
CREATED:20210304T160257Z
LAST-MODIFIED:20210304T160257Z
UID:241055-1836496800-1836502200@nlbc.org
SUMMARY:Sunday Service
DESCRIPTION:
URL:https://nlbc.org/event/sunday-service/2028-03-12/
LOCATION:Granada Theater\, 3524 Greenville Ave\, Dallas\, TX\, 75206\, United States
END:VEVENT
BEGIN:VEVENT
DTSTART;TZID=UTC:20280319T180000
DTEND;TZID=UTC:20280319T193000
DTSTAMP:20260424T140534
CREATED:20210304T160257Z
LAST-MODIFIED:20210304T160257Z
UID:241065-1837101600-1837107000@nlbc.org
SUMMARY:Sunday Service
DESCRIPTION:
URL:https://nlbc.org/event/sunday-service/2028-03-19/
LOCATION:Granada Theater\, 3524 Greenville Ave\, Dallas\, TX\, 75206\, United States
END:VEVENT
BEGIN:VEVENT
DTSTART;TZID=UTC:20280326T180000
DTEND;TZID=UTC:20280326T193000
DTSTAMP:20260424T140534
CREATED:20210304T160257Z
LAST-MODIFIED:20210304T160257Z
UID:241069-1837706400-1837711800@nlbc.org
SUMMARY:Sunday Service
DESCRIPTION:
URL:https://nlbc.org/event/sunday-service/2028-03-26/
LOCATION:Granada Theater\, 3524 Greenville Ave\, Dallas\, TX\, 75206\, United States
END:VEVENT
BEGIN:VEVENT
DTSTART;TZID=UTC:20280402T180000
DTEND;TZID=UTC:20280402T193000
DTSTAMP:20260424T140534
CREATED:20210304T160257Z
LAST-MODIFIED:20210304T160257Z
UID:241072-1838311200-1838316600@nlbc.org
SUMMARY:Sunday Service
DESCRIPTION:
URL:https://nlbc.org/event/sunday-service/2028-04-02/
LOCATION:Granada Theater\, 3524 Greenville Ave\, Dallas\, TX\, 75206\, United States
END:VEVENT
END:VCALENDAR